BEGIN:VCALENDAR
VERSION:2.0
PRODID:-//California Writers Club, Mt Diablo Branch - ECPv6.15.20//NONSGML v1.0//EN
CALSCALE:GREGORIAN
METHOD:PUBLISH
X-ORIGINAL-URL:https://cwcmtdiablo.org
X-WR-CALDESC:Events for California Writers Club, Mt Diablo Branch
REFRESH-INTERVAL;VALUE=DURATION:PT1H
X-Robots-Tag:noindex
X-PUBLISHED-TTL:PT1H
BEGIN:VTIMEZONE
TZID:America/Los_Angeles
BEGIN:DAYLIGHT
TZOFFSETFROM:-0800
TZOFFSETTO:-0700
TZNAME:PDT
DTSTART:20250309T100000
END:DAYLIGHT
BEGIN:STANDARD
TZOFFSETFROM:-0700
TZOFFSETTO:-0800
TZNAME:PST
DTSTART:20251102T090000
END:STANDARD
BEGIN:DAYLIGHT
TZOFFSETFROM:-0800
TZOFFSETTO:-0700
TZNAME:PDT
DTSTART:20260308T100000
END:DAYLIGHT
BEGIN:STANDARD
TZOFFSETFROM:-0700
TZOFFSETTO:-0800
TZNAME:PST
DTSTART:20261101T090000
END:STANDARD
BEGIN:DAYLIGHT
TZOFFSETFROM:-0800
TZOFFSETTO:-0700
TZNAME:PDT
DTSTART:20270314T100000
END:DAYLIGHT
BEGIN:STANDARD
TZOFFSETFROM:-0700
TZOFFSETTO:-0800
TZNAME:PST
DTSTART:20271107T090000
END:STANDARD
END:VTIMEZONE
BEGIN:VEVENT
DTSTART;TZID=America/Los_Angeles:20260531T140000
DTEND;TZID=America/Los_Angeles:20260531T163000
DTSTAMP:20260425T075211
CREATED:20260406T182155Z
LAST-MODIFIED:20260406T182928Z
UID:69311-1780236000-1780245000@cwcmtdiablo.org
SUMMARY:Tales\, Toppers & Treats – Author Event in Brentwood
DESCRIPTION:Leading Bay Area Authors to Speak at Fundraiser to Support Brentwood Library\n\n\n\nPut on your best hat and join the Friends of the Brentwood Library at Club Los Meganos\, 1700 Trilogy Parkway\, Brentwood\, for an inspiring afternoon featuring three extraordinary Bay Area authors whose voices are shaping contemporary literature\, culture\, and conversation. We are thrilled to present Alka Joshi\, Meg Donohue\, and Audrey Lee.Funds will be used to support children’s reading programs\, activities for children\, programs for handicapped adults\, adult craft classes\, and many other activities.For more information\, contact Kim Giuliano at 925-895-7232 \n\n\n\n\nClick here to learn more about the event\n\n\n\n\n\nClick here to get your tickets\n\n\n\n\n\n\nNOTE: This event is not sponsored by CWC
URL:https://cwcmtdiablo.org/event/tales-toppers-treats-author-event-in-brentwood/
LOCATION:Club Los Meganos\, 1700 Trilogy Parkway\, Brentwood\, California\, 94513\, United States
CATEGORIES:Non-CWC Event
ATTACH;FMTTYPE=image/webp:https://cwcmtdiablo.org/wp-content/uploads/2026/04/books-and-hat.webp
END:VEVENT
END:VCALENDAR