BEGIN:VCALENDAR
VERSION:2.0
PRODID:-//California Writers Club, Mt Diablo Branch - ECPv6.15.20//NONSGML v1.0//EN
CALSCALE:GREGORIAN
METHOD:PUBLISH
X-ORIGINAL-URL:https://cwcmtdiablo.org
X-WR-CALDESC:Events for California Writers Club, Mt Diablo Branch
REFRESH-INTERVAL;VALUE=DURATION:PT1H
X-Robots-Tag:noindex
X-PUBLISHED-TTL:PT1H
BEGIN:VTIMEZONE
TZID:America/Los_Angeles
BEGIN:DAYLIGHT
TZOFFSETFROM:-0800
TZOFFSETTO:-0700
TZNAME:PDT
DTSTART:20250309T100000
END:DAYLIGHT
BEGIN:STANDARD
TZOFFSETFROM:-0700
TZOFFSETTO:-0800
TZNAME:PST
DTSTART:20251102T090000
END:STANDARD
BEGIN:DAYLIGHT
TZOFFSETFROM:-0800
TZOFFSETTO:-0700
TZNAME:PDT
DTSTART:20260308T100000
END:DAYLIGHT
BEGIN:STANDARD
TZOFFSETFROM:-0700
TZOFFSETTO:-0800
TZNAME:PST
DTSTART:20261101T090000
END:STANDARD
BEGIN:DAYLIGHT
TZOFFSETFROM:-0800
TZOFFSETTO:-0700
TZNAME:PDT
DTSTART:20270314T100000
END:DAYLIGHT
BEGIN:STANDARD
TZOFFSETFROM:-0700
TZOFFSETTO:-0800
TZNAME:PST
DTSTART:20271107T090000
END:STANDARD
END:VTIMEZONE
BEGIN:VEVENT
DTSTART;TZID=America/Los_Angeles:20260509T100000
DTEND;TZID=America/Los_Angeles:20260509T120000
DTSTAMP:20260425T091926
CREATED:20260411T221512Z
LAST-MODIFIED:20260421T163009Z
UID:69354-1778320800-1778328000@cwcmtdiablo.org
SUMMARY:May 2026 Meeting with Writers Tables
DESCRIPTION:May Meeting 2026 Flyer for WebDownload\n\n\n\n\nClick Here to Register
URL:https://cwcmtdiablo.org/event/may-2026-meeting-with-writers-tables/
LOCATION:Pleasant Hill Community Center\, 320 Civic Drive\, Pleasant Hill\, California\, 94523
CATEGORIES:Branch Meetings and Workshops
ATTACH;FMTTYPE=image/jpeg:https://cwcmtdiablo.org/wp-content/uploads/2026/04/Writers-Table-May-2026-_2.jpg
END:VEVENT
END:VCALENDAR