BEGIN:VCALENDAR
VERSION:2.0
PRODID:-//California Writers Club, Mt Diablo Branch - ECPv6.15.20//NONSGML v1.0//EN
CALSCALE:GREGORIAN
METHOD:PUBLISH
X-ORIGINAL-URL:https://cwcmtdiablo.org
X-WR-CALDESC:Events for California Writers Club, Mt Diablo Branch
REFRESH-INTERVAL;VALUE=DURATION:PT1H
X-Robots-Tag:noindex
X-PUBLISHED-TTL:PT1H
BEGIN:VTIMEZONE
TZID:America/Los_Angeles
BEGIN:DAYLIGHT
TZOFFSETFROM:-0800
TZOFFSETTO:-0700
TZNAME:PDT
DTSTART:20250309T100000
END:DAYLIGHT
BEGIN:STANDARD
TZOFFSETFROM:-0700
TZOFFSETTO:-0800
TZNAME:PST
DTSTART:20251102T090000
END:STANDARD
BEGIN:DAYLIGHT
TZOFFSETFROM:-0800
TZOFFSETTO:-0700
TZNAME:PDT
DTSTART:20260308T100000
END:DAYLIGHT
BEGIN:STANDARD
TZOFFSETFROM:-0700
TZOFFSETTO:-0800
TZNAME:PST
DTSTART:20261101T090000
END:STANDARD
BEGIN:DAYLIGHT
TZOFFSETFROM:-0800
TZOFFSETTO:-0700
TZNAME:PDT
DTSTART:20270314T100000
END:DAYLIGHT
BEGIN:STANDARD
TZOFFSETFROM:-0700
TZOFFSETTO:-0800
TZNAME:PST
DTSTART:20271107T090000
END:STANDARD
END:VTIMEZONE
BEGIN:VEVENT
DTSTART;TZID=America/Los_Angeles:20260424T090000
DTEND;TZID=America/Los_Angeles:20260424T163000
DTSTAMP:20260425T054655
CREATED:20260412T213716Z
LAST-MODIFIED:20260412T213732Z
UID:69404-1777021200-1777048200@cwcmtdiablo.org
SUMMARY:Publishing Professionals Network 2026 Conference
DESCRIPTION:Future-Proof Your Publishing Career\n\n\n\nJoin the Publishing Professionals Network (PPN) 2026 Conference\, a full-day event designed for writers\, editors\, and publishing professionals looking to grow\, connect\, and stay ahead in the industry. \n\n\n\nTaking place on April 24\, 2026\, at the David Brower Center in Berkeley\, this conference brings together experts from across the publishing world to share insights\, tools\, and strategies for today’s evolving landscape. \n\n\n\nThis year’s conference features keynote speaker Jane Friedman\, a leading expert in publishing and author development\, along with a lineup of industry professionals covering topics such as AI in publishing\, marketing\, and the future of the industry. \n\n\n\nAttendees will have the opportunity to learn from experienced speakers\, attend engaging sessions\, and build meaningful connections with fellow writers and publishing professionals. \n\n\n\n\nView Schedule & Register
URL:https://cwcmtdiablo.org/event/publishing-professionals-network-2026-conference/
LOCATION:David Brower Center\, 2150 Allston Way\, Berkeley\, California\, 94704\, United States
CATEGORIES:Non-CWC Event
ATTACH;FMTTYPE=image/jpeg:https://cwcmtdiablo.org/wp-content/uploads/2026/04/PPN-2026.jpg
END:VEVENT
END:VCALENDAR