BEGIN:VCALENDAR
VERSION:2.0
PRODID:-//California Writers Club, Mt Diablo Branch - ECPv6.15.20//NONSGML v1.0//EN
CALSCALE:GREGORIAN
METHOD:PUBLISH
X-WR-CALNAME:California Writers Club, Mt Diablo Branch
X-ORIGINAL-URL:https://cwcmtdiablo.org
X-WR-CALDESC:Events for California Writers Club, Mt Diablo Branch
REFRESH-INTERVAL;VALUE=DURATION:PT1H
X-Robots-Tag:noindex
X-PUBLISHED-TTL:PT1H
BEGIN:VTIMEZONE
TZID:America/Los_Angeles
BEGIN:DAYLIGHT
TZOFFSETFROM:-0800
TZOFFSETTO:-0700
TZNAME:PDT
DTSTART:20250309T100000
END:DAYLIGHT
BEGIN:STANDARD
TZOFFSETFROM:-0700
TZOFFSETTO:-0800
TZNAME:PST
DTSTART:20251102T090000
END:STANDARD
BEGIN:DAYLIGHT
TZOFFSETFROM:-0800
TZOFFSETTO:-0700
TZNAME:PDT
DTSTART:20260308T100000
END:DAYLIGHT
BEGIN:STANDARD
TZOFFSETFROM:-0700
TZOFFSETTO:-0800
TZNAME:PST
DTSTART:20261101T090000
END:STANDARD
BEGIN:DAYLIGHT
TZOFFSETFROM:-0800
TZOFFSETTO:-0700
TZNAME:PDT
DTSTART:20270314T100000
END:DAYLIGHT
BEGIN:STANDARD
TZOFFSETFROM:-0700
TZOFFSETTO:-0800
TZNAME:PST
DTSTART:20271107T090000
END:STANDARD
END:VTIMEZONE
BEGIN:VEVENT
DTSTART;TZID=America/Los_Angeles:20260321T100000
DTEND;TZID=America/Los_Angeles:20260321T163000
DTSTAMP:20260425T122055
CREATED:20260307T203236Z
LAST-MODIFIED:20260307T203242Z
UID:69250-1774087200-1774110600@cwcmtdiablo.org
SUMMARY:Creative Writing Retreat
DESCRIPTION:Dominican MFA writing mentors will lead workshops in fiction\, essay\, memoir\, and poetry. This retreat has a new format that offers extended time in small group workshops in both the morning and the afternoon as well as group journal writing\, a nature walk\, and a keynote lecture with Savala Nolan\, author of Good Woman\, A Reckoning. Registration fee ($160) includes lunch. Scholarships available. CWC members can receive a 20% discount using code CWCDISCOUNT. For details and to register please visit the retreat Eventbrite page: https://www.eventbrite.com/e/creative-writing-retreat-in-person-at-dominican-march-21-2026-tickets-1983895162837 \n\n\n\n\nClick here for details and registration\n\n\n\n\nNote: This event is not sponsored by CWC
URL:https://cwcmtdiablo.org/event/creative-writing-retreat/
LOCATION:Dominican University of California\, EdgeHill Mansion\, 75 Magnolia Avenue\, San Rafael\, California
CATEGORIES:Non-CWC Event
ATTACH;FMTTYPE=image/jpeg:https://cwcmtdiablo.org/wp-content/uploads/2024/07/medium-shot-people-sitting-indoors-scaled.jpg
END:VEVENT
END:VCALENDAR