BEGIN:VCALENDAR
VERSION:2.0
PRODID:-//California Writers Club, Mt Diablo Branch - ECPv6.15.20//NONSGML v1.0//EN
CALSCALE:GREGORIAN
METHOD:PUBLISH
X-WR-CALNAME:California Writers Club, Mt Diablo Branch
X-ORIGINAL-URL:https://cwcmtdiablo.org
X-WR-CALDESC:Events for California Writers Club, Mt Diablo Branch
REFRESH-INTERVAL;VALUE=DURATION:PT1H
X-Robots-Tag:noindex
X-PUBLISHED-TTL:PT1H
BEGIN:VTIMEZONE
TZID:America/Los_Angeles
BEGIN:DAYLIGHT
TZOFFSETFROM:-0800
TZOFFSETTO:-0700
TZNAME:PDT
DTSTART:20250309T100000
END:DAYLIGHT
BEGIN:STANDARD
TZOFFSETFROM:-0700
TZOFFSETTO:-0800
TZNAME:PST
DTSTART:20251102T090000
END:STANDARD
BEGIN:DAYLIGHT
TZOFFSETFROM:-0800
TZOFFSETTO:-0700
TZNAME:PDT
DTSTART:20260308T100000
END:DAYLIGHT
BEGIN:STANDARD
TZOFFSETFROM:-0700
TZOFFSETTO:-0800
TZNAME:PST
DTSTART:20261101T090000
END:STANDARD
BEGIN:DAYLIGHT
TZOFFSETFROM:-0800
TZOFFSETTO:-0700
TZNAME:PDT
DTSTART:20270314T100000
END:DAYLIGHT
BEGIN:STANDARD
TZOFFSETFROM:-0700
TZOFFSETTO:-0800
TZNAME:PST
DTSTART:20271107T090000
END:STANDARD
END:VTIMEZONE
BEGIN:VEVENT
DTSTART;TZID=America/Los_Angeles:20260314T100000
DTEND;TZID=America/Los_Angeles:20260314T120000
DTSTAMP:20260425T091053
CREATED:20260218T051517Z
LAST-MODIFIED:20260225T190443Z
UID:69126-1773482400-1773489600@cwcmtdiablo.org
SUMMARY:March 2026 Meeting Featuring Writers Tables - Choose from 6!
DESCRIPTION:Schedule\n\n\n\n9:30 – 10:00 Sign-in table opens10:00 – 11:00 Part 1: Member Interviews with AnneMarie Mazotti Gouveia andJill Hedgecock11:00 – 12:00 Part 2: Writers Table – Choose your topic12:00 – Meeting ends—optional activities until 1:30 \n\n\n\n \n\n\nMarch 2026 General Meeting\, Part 1: Member Interviews\n\n\n\n\nJill Hedgecock\n\n\n\n\n\n\n\nJill is the author of Rhino in the Room\, Behind Shadow’s Eyes\, and numerous other YA novels. She served as our Program Coordinator for 8 years\, cl-chaired and judged the Young Writer’s contest for over a decade\, and judged the National Scholastic Art and Writing Awards for four years. \n\n\n\n\n\nAnneMarie Mazotti Gouveia \n\n\n\n\n\n\n\nAnneMarie is the author of the Drifters Realm series\, three YA novels about three siblings with ancient backpack powers living in a mystical world. AnneMarie is our Central Board Representative and is a current co-chair of the Young Writers Contest.  \n\n\n\n\nMarch 2026 General Meeting\, Part 2: Writers Table\n\n\n\n\n\n\n\n\n\n\nBeatrice Weber: All About Substack\n\n\n\n\n\n\n\n\n\nJill Hedgecock: World-Building and Character Development Using AI Images\n\n\n\n\n\n\n\n\n\nDore’ Ripley: Branding Your Book on Amazon\n\n\n\n\n\n\n\n\n\n\n\nAl Garratto: To Be or Not To Be\n\n\n\n\n\n\n\n\n\nElisabeth Tuck: Editing Your Book\n\n\n\n\n\n\n\n\n\nPatrick Kelly: Using Google Library to List Your Book on AI Searches\n\n\n\n\n\nAfter our meeting\, all attendees are invited to stay and participate in the activity of their choice. Book clubs\, critique groups\, Scrabble… start an activity you’d like to do! \n\n\n\n\n\n\nClick here to register
URL:https://cwcmtdiablo.org/event/march-2026-meeting-featuring-writers-tables-choose-from-7-saturday-march-14-2026-1000-a-m-1200-p-m-with-optional-events-until-130-coffee-tea-and-pastries-included/
LOCATION:Pleasant Hill Senior Center\, 233 Gregory Lane\, Pleasant Hill\, California\, 94523
CATEGORIES:Branch Meetings and Workshops
ATTACH;FMTTYPE=image/png:https://cwcmtdiablo.org/wp-content/uploads/2026/02/march-2026-feature-img.png
END:VEVENT
END:VCALENDAR