BEGIN:VCALENDAR
VERSION:2.0
PRODID:-//California Writers Club, Mt Diablo Branch - ECPv6.15.20//NONSGML v1.0//EN
CALSCALE:GREGORIAN
METHOD:PUBLISH
X-ORIGINAL-URL:https://cwcmtdiablo.org
X-WR-CALDESC:Events for California Writers Club, Mt Diablo Branch
REFRESH-INTERVAL;VALUE=DURATION:PT1H
X-Robots-Tag:noindex
X-PUBLISHED-TTL:PT1H
BEGIN:VTIMEZONE
TZID:America/Los_Angeles
BEGIN:DAYLIGHT
TZOFFSETFROM:-0800
TZOFFSETTO:-0700
TZNAME:PDT
DTSTART:20250309T100000
END:DAYLIGHT
BEGIN:STANDARD
TZOFFSETFROM:-0700
TZOFFSETTO:-0800
TZNAME:PST
DTSTART:20251102T090000
END:STANDARD
BEGIN:DAYLIGHT
TZOFFSETFROM:-0800
TZOFFSETTO:-0700
TZNAME:PDT
DTSTART:20260308T100000
END:DAYLIGHT
BEGIN:STANDARD
TZOFFSETFROM:-0700
TZOFFSETTO:-0800
TZNAME:PST
DTSTART:20261101T090000
END:STANDARD
BEGIN:DAYLIGHT
TZOFFSETFROM:-0800
TZOFFSETTO:-0700
TZNAME:PDT
DTSTART:20270314T100000
END:DAYLIGHT
BEGIN:STANDARD
TZOFFSETFROM:-0700
TZOFFSETTO:-0800
TZNAME:PST
DTSTART:20271107T090000
END:STANDARD
END:VTIMEZONE
BEGIN:VEVENT
DTSTART;TZID=America/Los_Angeles:20260214T100000
DTEND;TZID=America/Los_Angeles:20260214T120000
DTSTAMP:20260425T091752
CREATED:20251231T140303Z
LAST-MODIFIED:20260125T174614Z
UID:68935-1771063200-1771070400@cwcmtdiablo.org
SUMMARY:CWC Mt. Diablo February 2026 General Meeting Featuring Chris Hennessy
DESCRIPTION:WRITE IT\, FILM IT\, SHARE IT – The Power of Video for Authors\n\n\nClick HERE to Register\n\n\n\n\n\n\n\n\n\nChris Hennessy is an award-winning filmmaker\, author\, and speaker who spent 28 years producing over 1\,500 professional films for major clients including Google\, eBay\, and the SF 49ers. After retiring from commercial filmmaking\, he created the award-winning TV series Yolo YoYo’s (Best New TV Cable Series\, Sacramento\, 2019) and the short documentary Miracles on College Street—produced to promote his recently released memoir\, Touched by Hannah. Miracles won the prestigious ‘Film Heals’ award (most inspirational) at the 2022 Manhattan Film Festival and was runner-up for ‘Best Narrative Episode West Coast’ at the 2022 ACM Western Region WAVE Cable TV Awards. \n\n\n\n\n\nThe Power of Videos for Authors\n\n\n\nIn this energetic\, practical session\, Chris demystifies video creation for writers\, showing you how to leverage visual storytelling to build your author platform\, promote your work\, and connect authentically with readers—all without breaking the bank or needing Hollywood production skills. \n\n\n\nATTENDEES WILL BE SHOWN:\n\n\n\n\nHow and why to incorporate video into your author platform and writing projects\n\n\n\nThe video production process\, explaining pre-production\, production\, and post-production in writer-friendly terms\n\n\n\nCreate video buzz\n\n\n\nHow to repurpose your videos for free marketing and promotion
URL:https://cwcmtdiablo.org/event/cwc-mt-diablo-february-2026-general-meeting-featuring-chris-hennessy/
LOCATION:Pleasant Hill Senior Center\, 233 Gregory Lane\, Pleasant Hill\, California\, 94523\, United States
CATEGORIES:Branch Meetings and Workshops
ATTACH;FMTTYPE=image/jpeg:https://cwcmtdiablo.org/wp-content/uploads/2024/08/Chris-Hennessy.jpg
END:VEVENT
END:VCALENDAR